BEGIN:VCALENDAR
VERSION:2.0
PRODID:-//eventon.com NONSGML v1.0//EN
CALSCALE:GREGORIAN
METHOD:PUBLISH
BEGIN:VEVENT
UID:69ea20139853a
DTSTAMP:20260423T133515Z
DTSTART:20260127T193000Z
DTEND:20260127T235900Z
LOCATION:Freie Kirche Wipkingen Habsburgstrasse 17\,  8037 Zürich
SUMMARY:Gemeindegebet
DESCRIPTION:\nhttps://kirchewipkingen.ch/events/gemeindegebet-2-2/
URL:https://kirchewipkingen.ch/events/gemeindegebet-2-2/
END:VEVENT
END:VCALENDAR