BEGIN:VCALENDAR
VERSION:2.0
PRODID:-//eventon.com NONSGML v1.0//EN
CALSCALE:GREGORIAN
METHOD:PUBLISH
BEGIN:VEVENT
UID:69ea200a242c5
DTSTAMP:20260423T133506Z
DTSTART:20260630T193000Z
DTEND:20260630T235900Z
LOCATION:Freie Kirche Wipkingen Habsburgstrasse 17\,  8037 Zürich
SUMMARY:Gemeindegebet
DESCRIPTION:\nhttps://kirchewipkingen.ch/events/gemeindegebet-2-2/var/ri-5.
 l-L1
URL:https://kirchewipkingen.ch/events/gemeindegebet-2-2/var/ri-5.l-L1
END:VEVENT
END:VCALENDAR