BEGIN:VCALENDAR
VERSION:2.0
PRODID:-//eventon.com NONSGML v1.0//EN
CALSCALE:GREGORIAN
METHOD:PUBLISH
BEGIN:VEVENT
UID:69e9f3fc72e14
DTSTAMP:20260423T102708Z
DTSTART:20260509T140000Z
DTEND:20260509T173000Z
LOCATION:vor der Alten Ref. Kirche Albisrieden Albisriederstrasse 391\,  8047 Zürich
SUMMARY:Jungschi Waldmann
DESCRIPTION: www.jungschiwaldmann.ch\nhttps://kirchewipkingen.ch/events/ju
 ngschi-waldmann-4-2-2-3-2-2/
URL:https://kirchewipkingen.ch/events/jungschi-waldmann-4-2-2-3-2-2/
END:VEVENT
END:VCALENDAR