BEGIN:VCALENDAR
VERSION:2.0
PRODID:-//eventon.com NONSGML v1.0//EN
CALSCALE:GREGORIAN
METHOD:PUBLISH
BEGIN:VEVENT
UID:69e9f41e93bb1
DTSTAMP:20260423T102742Z
DTSTART:20260523T100000Z
DTEND:20260525T173000Z
LOCATION:
SUMMARY:Jungschi Waldmann Pfingstlager
DESCRIPTION: www.jungschiwaldmann.ch\nhttps://kirchewipkingen.ch/events/ju
 ngschi-waldmann-pfingstlager-2/
URL:https://kirchewipkingen.ch/events/jungschi-waldmann-pfingstlager-2/
END:VEVENT
END:VCALENDAR