BEGIN:VCALENDAR
VERSION:2.0
PRODID:-//eventon.com NONSGML v1.0//EN
CALSCALE:GREGORIAN
METHOD:PUBLISH
BEGIN:VEVENT
UID:69e9f3fc13da7
DTSTAMP:20260423T102708Z
DTSTART:20260506T143000Z
DTEND:20260506T163000Z
LOCATION:Freie Kirche Wipkingen Habsburgstrasse 17\,  8037 Zürich
SUMMARY:60 plus Nachmittag
DESCRIPTION:„Die Herrlichkeit Gottes: Stiftshütte\,  Tempel\,  Jesus\,  
 Gemeinde\,  Vollendung“ – mit Max &amp; Margrit Eugster\nhttps://kirche
 wipkingen.ch/events/60-plus-nachmittag-6-3-2-2-3/
URL:https://kirchewipkingen.ch/events/60-plus-nachmittag-6-3-2-2-3/
END:VEVENT
END:VCALENDAR