BEGIN:VCALENDAR
VERSION:2.0
PRODID:-//eventon.com NONSGML v1.0//EN
CALSCALE:GREGORIAN
METHOD:PUBLISH
BEGIN:VEVENT
UID:69e9f41e9a6c4
DTSTAMP:20260423T102742Z
DTSTART:20260426T100000Z
DTEND:20260426T235900Z
LOCATION:Freie Kirche Wipkingen Habsburgstrasse 17\,  8037 Zürich
SUMMARY:Gottesdienst mit Compassion
DESCRIPTION:Predigt: Daniel Müller\nhttps://kirchewipkingen.ch/events/gott
 esdienst-196-3-3-2-2-3-2-3-2-2-2-3-2-3-2-2-3/
URL:https://kirchewipkingen.ch/events/gottesdienst-196-3-3-2-2-3-2-3-2-2-2-3-2-3-2-2-3/
END:VEVENT
END:VCALENDAR