BEGIN:VCALENDAR
VERSION:2.0
PRODID:-//eventon.com NONSGML v1.0//EN
CALSCALE:GREGORIAN
METHOD:PUBLISH
BEGIN:VEVENT
UID:69e9f3b8e0704
DTSTAMP:20260423T102600Z
DTSTART:20260503T100000Z
DTEND:20260503T235900Z
LOCATION:Freie Kirche Wipkingen Habsburgstrasse 17\,  8037 Zürich
SUMMARY:Gottesdienst
DESCRIPTION:Predigt: Marcel Eversberg über Kolosser 3\, 1-5\nhttps://kirch
 ewipkingen.ch/events/gottesdienst-196-3-3-2-2-3-2-3-2-2-2-3-2-3-2-2-2-2-2/
URL:https://kirchewipkingen.ch/events/gottesdienst-196-3-3-2-2-3-2-3-2-2-2-3-2-3-2-2-2-2-2/
END:VEVENT
END:VCALENDAR