BEGIN:VCALENDAR
VERSION:2.0
PRODID:-//eventon.com NONSGML v1.0//EN
CALSCALE:GREGORIAN
METHOD:PUBLISH
BEGIN:VEVENT
UID:69e9f3c2c33c2
DTSTAMP:20260423T102610Z
DTSTART:20260510T100000Z
DTEND:20260510T235900Z
LOCATION:Freie Kirche Wipkingen Habsburgstrasse 17\,  8037 Zürich
SUMMARY:Gottesdienst
DESCRIPTION:Predigt: Silas Wohler\nhttps://kirchewipkingen.ch/events/gottes
 dienst-196-3-3-2-2-3-2-3-2-2-2-3-2-3-2-2-2-2-2-2/
URL:https://kirchewipkingen.ch/events/gottesdienst-196-3-3-2-2-3-2-3-2-2-2-3-2-3-2-2-2-2-2-2/
END:VEVENT
END:VCALENDAR