BEGIN:VCALENDAR
VERSION:2.0
PRODID:-//eventon.com NONSGML v1.0//EN
CALSCALE:GREGORIAN
METHOD:PUBLISH
BEGIN:VEVENT
UID:69e9f3e609204
DTSTAMP:20260423T102646Z
DTSTART:20260524T100000Z
DTEND:20260524T235900Z
LOCATION:Freie Kirche Wipkingen Habsburgstrasse 17\,  8037 Zürich
SUMMARY:Gottesdienst an Pfingsten
DESCRIPTION:Predigt: Marcel Eversberg\nhttps://kirchewipkingen.ch/events/go
 ttesdienst-196-3-3-2-2-3-2-3-2-2-2-3-2-3-2-2-2-2-2-3/
URL:https://kirchewipkingen.ch/events/gottesdienst-196-3-3-2-2-3-2-3-2-2-2-3-2-3-2-2-2-2-2-3/
END:VEVENT
END:VCALENDAR