BEGIN:VCALENDAR
VERSION:2.0
PRODID:-//eventon.com NONSGML v1.0//EN
CALSCALE:GREGORIAN
METHOD:PUBLISH
BEGIN:VEVENT
UID:69ea2013a52e7
DTSTAMP:20260423T133515Z
DTSTART:20260607T100000Z
DTEND:20260607T235900Z
LOCATION:Freie Kirche Wipkingen Habsburgstrasse 17\,  8037 Zürich
SUMMARY:Gottesdienst
DESCRIPTION:Predigt: Marcel Eversberg\nhttps://kirchewipkingen.ch/events/go
 ttesdienst-196-3-3-2-2-3-2-3-2-2-2-3-2-3-2-2-2-2-2-4/var/ri-1.l-L1
URL:https://kirchewipkingen.ch/events/gottesdienst-196-3-3-2-2-3-2-3-2-2-2-3-2-3-2-2-2-2-2-4/var/ri-1.l-L1
END:VEVENT
END:VCALENDAR