BEGIN:VCALENDAR
VERSION:2.0
PRODID:-//eventon.com NONSGML v1.0//EN
CALSCALE:GREGORIAN
METHOD:PUBLISH
BEGIN:VEVENT
UID:69e9f414f1df3
DTSTAMP:20260423T102732Z
DTSTART:20260517T100000Z
DTEND:20260517T235900Z
LOCATION:
SUMMARY:KEIN Gottesdienst in Zürich (Gemeindeferien)
DESCRIPTION:\nhttps://kirchewipkingen.ch/events/gottesdienst-167-2-2/
URL:https://kirchewipkingen.ch/events/gottesdienst-167-2-2/
END:VEVENT
END:VCALENDAR