BEGIN:VCALENDAR
VERSION:2.0
PRODID:-//eventon.com NONSGML v1.0//EN
CALSCALE:GREGORIAN
METHOD:PUBLISH
BEGIN:VEVENT
UID:69e9f3c2cedf3
DTSTAMP:20260423T102610Z
DTSTART:20260514T180000Z
DTEND:20260517T140000Z
LOCATION:
SUMMARY:Gemeindeferien in Seewis
DESCRIPTION:\nhttps://kirchewipkingen.ch/events/gemeindeferien-adelboden-2-
 2/
URL:https://kirchewipkingen.ch/events/gemeindeferien-adelboden-2-2/
END:VEVENT
END:VCALENDAR