BEGIN:VCALENDAR
VERSION:2.0
PRODID:-//eventon.com NONSGML v1.0//EN
CALSCALE:GREGORIAN
METHOD:PUBLISH
BEGIN:VEVENT
UID:69ea2047b26d0
DTSTAMP:20260423T133607Z
DTSTART:20260508T190000Z
DTEND:20260508T213000Z
LOCATION:Freie Kirche Wipkingen Habsburgstrasse 17\,  8037 Zürich
SUMMARY:FridayNight
DESCRIPTION: \nhttps://kirchewipkingen.ch/events/fridaynight-7/
URL:https://kirchewipkingen.ch/events/fridaynight-7/
END:VEVENT
END:VCALENDAR