BEGIN:VCALENDAR
VERSION:2.0
PRODID:-//eventon.com NONSGML v1.0//EN
CALSCALE:GREGORIAN
METHOD:PUBLISH
BEGIN:VEVENT
UID:69e9f4403fa1a
DTSTAMP:20260423T102816Z
DTSTART:20260529T190000Z
DTEND:20260529T213000Z
LOCATION:Freie Kirche Wipkingen Habsburgstrasse 17\,  8037 Zürich
SUMMARY:FridayNight
DESCRIPTION: \nhttps://kirchewipkingen.ch/events/fridaynight-8/
URL:https://kirchewipkingen.ch/events/fridaynight-8/
END:VEVENT
END:VCALENDAR