BEGIN:VCALENDAR
VERSION:2.0
PRODID:-//eventon.com NONSGML v1.0//EN
CALSCALE:GREGORIAN
METHOD:PUBLISH
BEGIN:VEVENT
UID:69e9f44039cfe
DTSTAMP:20260423T102816Z
DTSTART:20260522T190000Z
DTEND:20260522T213000Z
LOCATION:Freie Kirche Wipkingen Habsburgstrasse 17\,  8037 Zürich
SUMMARY:FridayNight
DESCRIPTION: \nhttps://kirchewipkingen.ch/events/fridaynight-8-2/
URL:https://kirchewipkingen.ch/events/fridaynight-8-2/
END:VEVENT
END:VCALENDAR